BEGIN:VCALENDAR
VERSION:2.0
PRODID:-//Treaty One - ECPv6.15.14//NONSGML v1.0//EN
CALSCALE:GREGORIAN
METHOD:PUBLISH
X-WR-CALNAME:Treaty One
X-ORIGINAL-URL:https://treaty1.ca
X-WR-CALDESC:Events for Treaty One
REFRESH-INTERVAL;VALUE=DURATION:PT1H
X-Robots-Tag:noindex
X-PUBLISHED-TTL:PT1H
BEGIN:VTIMEZONE
TZID:America/Winnipeg
BEGIN:DAYLIGHT
TZOFFSETFROM:-0600
TZOFFSETTO:-0500
TZNAME:CDT
DTSTART:20230312T080000
END:DAYLIGHT
BEGIN:STANDARD
TZOFFSETFROM:-0500
TZOFFSETTO:-0600
TZNAME:CST
DTSTART:20231105T070000
END:STANDARD
BEGIN:DAYLIGHT
TZOFFSETFROM:-0600
TZOFFSETTO:-0500
TZNAME:CDT
DTSTART:20240310T080000
END:DAYLIGHT
BEGIN:STANDARD
TZOFFSETFROM:-0500
TZOFFSETTO:-0600
TZNAME:CST
DTSTART:20241103T070000
END:STANDARD
BEGIN:DAYLIGHT
TZOFFSETFROM:-0600
TZOFFSETTO:-0500
TZNAME:CDT
DTSTART:20250309T080000
END:DAYLIGHT
BEGIN:STANDARD
TZOFFSETFROM:-0500
TZOFFSETTO:-0600
TZNAME:CST
DTSTART:20251102T070000
END:STANDARD
END:VTIMEZONE
BEGIN:VEVENT
DTSTART;TZID=America/Winnipeg:20240628T190000
DTEND;TZID=America/Winnipeg:20240823T000000
DTSTAMP:20260423T015125
CREATED:20240627T213235Z
LAST-MODIFIED:20240627T215559Z
UID:20225-1719601200-1724371200@treaty1.ca
SUMMARY:Treaty One Powwow Trail: Summer 2024
DESCRIPTION:Join Us This Summer on the Treaty One Powwow Trail! \nWe are thrilled to announce the dates for the 2024 Treaty One Powwow Trail! Open to all\, this is your guide to the upcoming powwows where our Nations will come together to celebrate our Anishinaabe culture\, enjoy delicious food\, and witness the beautiful dances of our people. \nPowwow Schedule: \n– Swan Lake First Nation: June 28-30\n– Peguis First Nation: July 19-21\n– Anishinaabe Days: July 27-28\n– Sagkeeng First Nation: August 2-4\n– Long Plain First Nation: August 3-4\n– Brokenhead Ojibway Nation: August 9-11\n– Roseau River Anishinabe First Nation: August 9-11\n– Sandy Bay Ojibway First Nation: August 23-25 \nWe look forward to dancing\, laughing\, and connecting with our Relatives on their traditional lands. The Powwow trail kicks off this Friday in Swan Lake First Nation at 7 PM—you won’t want to miss it! \nGet ready for an unforgettable summer filled with joy\, unity\, and cultural pride. Open to all\, we hope to see you there!
URL:https://treaty1.ca/event/treaty-one-powwow-trail-summer-2024/
LOCATION:Manitoba
CATEGORIES:Celebration,Gatherings
ATTACH;FMTTYPE=image/jpeg:https://treaty1.ca/wp-content/uploads/2024/06/Treaty-One-Powwow-Trail-2024-Featured-Image.jpg
END:VEVENT
BEGIN:VEVENT
DTSTART;VALUE=DATE:20240726
DTEND;VALUE=DATE:20240727
DTSTAMP:20260423T015125
CREATED:20240522T151050Z
LAST-MODIFIED:20240610T210327Z
UID:20163-1721952000-1722038399@treaty1.ca
SUMMARY:4th Annual Nation Challenge Golf Tournament
DESCRIPTION:Get ready to tee off at the 4th Annual Treaty One Golf Tournament\, taking place on July 26\, 2024\, at the beautiful Bel Acres Golf and Country Club in Rosser\, MB! \nJoin us for this exciting event\, welcoming a total of 36 teams to drive for victory. Registration opens at 9 am\, followed by a shotgun tee-off at 11 am. For just $1400 per team\, your entry includes green fees\, a golf cart\, lunch\, dinner\, and the exciting opportunity to win incredible door prizes! \nThroughout the day\, test your skills in various competitions such as the longest drive\, closest to the pin\, putting contest\, and even a hole-in-one challenge. \nAs the day draws to a close\, enjoy a delicious dinner and participate in the raffle of door prizes\, including a Titleist golf set. \nDon’t miss out on this fantastic event! Secure your spot now for a day of competitive fun. We look forward to seeing you on the course! \n* Basic Registration is sold out\n* Only a few spots left for sponsors \nFor sponsorship information visit the following link: 4th Annual Treaty One Golf Tournament Sponsorship Package.pdf
URL:https://treaty1.ca/event/4th-annual-nation-challenge-golf-tournament/
LOCATION:Bel Acres Golf & Country Club\, 7150 E RD 70N\, Stony Mountain\, Manitoba\, R3C 2E6\, Canada
CATEGORIES:Golf Tournament
ATTACH;FMTTYPE=image/jpeg:https://treaty1.ca/wp-content/uploads/2024/05/4th-Annual-Nation-Challenge-Golf-Tournament-1200x.jpg
ORGANIZER;CN="Treaty One":MAILTO:events@treaty1.ca
END:VEVENT
END:VCALENDAR