BEGIN:VCALENDAR
VERSION:2.0
PRODID:-//Treaty One - ECPv6.15.14//NONSGML v1.0//EN
CALSCALE:GREGORIAN
METHOD:PUBLISH
X-ORIGINAL-URL:https://treaty1.ca
X-WR-CALDESC:Events for Treaty One
REFRESH-INTERVAL;VALUE=DURATION:PT1H
X-Robots-Tag:noindex
X-PUBLISHED-TTL:PT1H
BEGIN:VTIMEZONE
TZID:America/Winnipeg
BEGIN:DAYLIGHT
TZOFFSETFROM:-0600
TZOFFSETTO:-0500
TZNAME:CDT
DTSTART:20250309T080000
END:DAYLIGHT
BEGIN:STANDARD
TZOFFSETFROM:-0500
TZOFFSETTO:-0600
TZNAME:CST
DTSTART:20251102T070000
END:STANDARD
BEGIN:DAYLIGHT
TZOFFSETFROM:-0600
TZOFFSETTO:-0500
TZNAME:CDT
DTSTART:20260308T080000
END:DAYLIGHT
BEGIN:STANDARD
TZOFFSETFROM:-0500
TZOFFSETTO:-0600
TZNAME:CST
DTSTART:20261101T070000
END:STANDARD
BEGIN:DAYLIGHT
TZOFFSETFROM:-0600
TZOFFSETTO:-0500
TZNAME:CDT
DTSTART:20270314T080000
END:DAYLIGHT
BEGIN:STANDARD
TZOFFSETFROM:-0500
TZOFFSETTO:-0600
TZNAME:CST
DTSTART:20271107T070000
END:STANDARD
END:VTIMEZONE
BEGIN:VEVENT
DTSTART;TZID=America/Winnipeg:20260723T090000
DTEND;TZID=America/Winnipeg:20260723T180000
DTSTAMP:20260423T195235
CREATED:20260327T212019Z
LAST-MODIFIED:20260327T212019Z
UID:22091-1784797200-1784829600@treaty1.ca
SUMMARY:6th Annual Nation Challenge Golf Tournament
DESCRIPTION:Driving Community Forward – 6th Annual Nation Challenge Golf Tournament\nDate: July 23\, 2026Location: Bel Acres Golf & Country Club \nThe Nation Challenge Golf Tournament returns for its 6th year\, bringing together Treaty One leadership\, partners\, and community members for a day on the course in support of our Nations. \nWhat started as a single event has grown into an annual gathering that creates space for connection\, collaboration\, and shared purpose. Each year\, the tournament continues to strengthen relationships while supporting the work of Treaty One advisory councils\, including the Knowledge Keepers Council and Youth Council. \nProceeds from the tournament contribute to initiatives that support cultural knowledge\, youth engagement\, and community development across Treaty One. \nTeams of all skill levels are welcome. Whether you are coming to compete or simply to be part of the day\, the tournament is about showing up\, supporting one another\, and moving forward together. \nMore details on registration and sponsorship opportunities can be found below. \nFor Sponsorship Package\, view the link below:Nation Challenge Golf Tournament – 2026 Sponsorship Package.pdf
URL:https://treaty1.ca/event/6th-annual-nation-challenge-golf-tournament/
LOCATION:Bel Acres Golf & Country Club\, 7150 E RD 70N\, Stony Mountain\, Manitoba\, R3C 2E6\, Canada
CATEGORIES:Golf Tournament
ATTACH;FMTTYPE=image/jpeg:https://treaty1.ca/wp-content/uploads/2026/03/6th-Annual-Nation-Challenge-Golf-Tournament-1200x.jpg
ORGANIZER;CN="Treaty One":MAILTO:events@treaty1.ca
END:VEVENT
BEGIN:VEVENT
DTSTART;VALUE=DATE:20260725
DTEND;VALUE=DATE:20260727
DTSTAMP:20260423T195235
CREATED:20260204T213954Z
LAST-MODIFIED:20260316T161029Z
UID:22026-1784937600-1785110399@treaty1.ca
SUMMARY:5th Annual Anishinaabe Days Celebration
DESCRIPTION:Naawi-Oodena\, 505 Kenaston BlvdJoin us for a celebration of Anishinaabe culture and community \nAnishinaabe Days is Treaty One Nations’ annual summer celebration held at Naawi-Oodena\, bringing people together to experience Anishinaabe culture through community and connection. \nFree and open to all\, the event creates a welcoming space for families\, neighbours\, partners\, and allies to learn and celebrate. \n\nWhat to Expect\nAnishinaabe Days features a mix of cultural\, artistic\, and family-focused activities with something for all ages — from the heartbeat of the drum\, to the energy of the marketplace\, to honouring the living culture and traditions of the Anishinaabe people. \n\nKey Highlights\nTraditional Powwow\nA powerful expression of Anishinaabe culture and healing\, bringing together dancers\, singers\, and community members to celebrate tradition through song and ceremony. \nAnishinaabe Idol Talent Show\nA crowd-favourite event showcasing the musical talent of Indigenous artists from across the region\, providing a platform for performers to share their voices and stories in front of a supportive audience. \nIndigenous Artisan Market\nFeaturing Indigenous artisans and entrepreneurs offering handcrafted goods such as beadwork\, artwork\, clothing\, and other one-of-a-kind items — supporting Indigenous creativity and economic growth. \nYouth & Family Activities\nInteractive and educational activities for children and youth\, including sports activations\, games\, and hands-on experiences designed to inspire the next generation. \nFood Trucks & Community Eats\nA diverse selection of food vendors offering traditional Indigenous cuisine alongside popular food-truck favourites throughout the weekend. \nFireworks Celebration\nSaturday evening concludes with a fireworks display\, bringing the community together to celebrate culture and connection. \n\nBecome a Sponsor\nInterested in sponsoring the 5th Annual Anishinaabe Days? \nAll funds raised through sponsorships help ensure that Anishinaabe Days remains free and accessible. \nBy supporting Anishinaabe Days\, sponsors play a direct role in strengthening cultural continuity\, community connection\, and shared experiences across Treaty One Territory. \nView the full sponsorship package here:[Download the 5th Annual Anishinaabe Days Sponsorship Package] \nFor questions\, please contact events@treaty1.ca or call 204-783-3110.
URL:https://treaty1.ca/event/anishinaabe-days/
LOCATION:Naawi-Oodena\, 505 Kenaston Boulevard\, Winnipeg\, Manitoba\, Canada
CATEGORIES:Celebration
ATTACH;FMTTYPE=image/jpeg:https://treaty1.ca/wp-content/uploads/2026/02/Anishinaabe-Days-2026-1920x1005-1.jpg
ORGANIZER;CN="Treaty One":MAILTO:events@treaty1.ca
END:VEVENT
END:VCALENDAR