BEGIN:VCALENDAR
VERSION:2.0
PRODID:-//Treaty One - ECPv6.15.14//NONSGML v1.0//EN
CALSCALE:GREGORIAN
METHOD:PUBLISH
X-WR-CALNAME:Treaty One
X-ORIGINAL-URL:https://treaty1.ca
X-WR-CALDESC:Events for Treaty One
REFRESH-INTERVAL;VALUE=DURATION:PT1H
X-Robots-Tag:noindex
X-PUBLISHED-TTL:PT1H
BEGIN:VTIMEZONE
TZID:America/Winnipeg
BEGIN:DAYLIGHT
TZOFFSETFROM:-0600
TZOFFSETTO:-0500
TZNAME:CDT
DTSTART:20230312T080000
END:DAYLIGHT
BEGIN:STANDARD
TZOFFSETFROM:-0500
TZOFFSETTO:-0600
TZNAME:CST
DTSTART:20231105T070000
END:STANDARD
BEGIN:DAYLIGHT
TZOFFSETFROM:-0600
TZOFFSETTO:-0500
TZNAME:CDT
DTSTART:20240310T080000
END:DAYLIGHT
BEGIN:STANDARD
TZOFFSETFROM:-0500
TZOFFSETTO:-0600
TZNAME:CST
DTSTART:20241103T070000
END:STANDARD
BEGIN:DAYLIGHT
TZOFFSETFROM:-0600
TZOFFSETTO:-0500
TZNAME:CDT
DTSTART:20250309T080000
END:DAYLIGHT
BEGIN:STANDARD
TZOFFSETFROM:-0500
TZOFFSETTO:-0600
TZNAME:CST
DTSTART:20251102T070000
END:STANDARD
END:VTIMEZONE
BEGIN:VEVENT
DTSTART;TZID=America/Winnipeg:20240506T083000
DTEND;TZID=America/Winnipeg:20240506T163000
DTSTAMP:20260421T122840
CREATED:20240307T154630Z
LAST-MODIFIED:20240504T033221Z
UID:20015-1714984200-1715013000@treaty1.ca
SUMMARY:Unlocking Opportunities at Naawi-Oodena
DESCRIPTION:Join us at the Unlocking Opportunities at Naawi-Oodena Economic Development Summit\, where business and investment prospects on the jointly held Treaty One lands take centre stage! Hosted by Treaty One Economic Development Corporation at the RBC Convention Centre in Winnipeg on May 6-7\, 2024\, this event is your gateway to growth and success.\n\n\n\nWho should attend?\n\n\n\nInvestors and Entrepreneurs\nReal Estate Developers\nBusiness Owners\nCorporate Executives\nEconomic Development Professionals\nUrban Planners and Architects\nSustainability and Environmental Leaders\nLegal and Financial Advisors\nTechnology and Innovation Sectors\n\n\n\n\nJoin us for two full days of networking\, learning\, and discovery! Whether you’re a seasoned professional eager to expand your horizons or a budding entrepreneur seeking your next venture\, this event has something in store for you.\n\n\nView a PDF of our event promo package here: Unlocking Opportunities at Naawi-Oodena Promo Package.pdf\n\n\nThank You to Our Sponsors: \nSupporting Sponsors: \n\n\n\n\n\n\n  \nHealth Break Sponsors:\n\n\n\n\n\n\n\n\n\n\n\n\n\n\n\n\n\n\n\n\n\n\n\nMedia Sponsor:
URL:https://treaty1.ca/event/unlocking-opportunities-at-naawi-oodena/
LOCATION:RBC Convention Centre\, 375 York Ave\, Winnipeg\, Manitoba\, R3C 3J3\, Canada
CATEGORIES:Business Conference,Community Engagement,Summit
ATTACH;FMTTYPE=image/png:https://treaty1.ca/wp-content/uploads/2024/03/Unlocking-Opportunities-at-Naawi-Oodena-Wordpress-Featured-Image.png
ORGANIZER;CN="Treaty One":MAILTO:events@treaty1.ca
END:VEVENT
END:VCALENDAR