BEGIN:VCALENDAR
VERSION:2.0
PRODID:-//Treaty One - ECPv6.15.14//NONSGML v1.0//EN
CALSCALE:GREGORIAN
METHOD:PUBLISH
X-ORIGINAL-URL:https://treaty1.ca
X-WR-CALDESC:Events for Treaty One
REFRESH-INTERVAL;VALUE=DURATION:PT1H
X-Robots-Tag:noindex
X-PUBLISHED-TTL:PT1H
BEGIN:VTIMEZONE
TZID:UTC
BEGIN:STANDARD
TZOFFSETFROM:+0000
TZOFFSETTO:+0000
TZNAME:UTC
DTSTART:20220101T000000
END:STANDARD
END:VTIMEZONE
BEGIN:VEVENT
DTSTART;TZID=UTC:20230729T083000
DTEND;TZID=UTC:20230730T163000
DTSTAMP:20260421T133956
CREATED:20230616T201303Z
LAST-MODIFIED:20230616T223505Z
UID:18933-1690619400-1690734600@treaty1.ca
SUMMARY:Anishinabe Days
DESCRIPTION:Join us for a weekend of fun activities that the whole family can enjoy! \nThe 2nd Annual Anishinabe Days Celebration\, hosted by the Treaty One Nations\, brings together members from across the Nations at Naawi-Oodena for a weekend filled with exciting activities. We have a great line-up of events\, from a Traditional Pow Wow\, to the return of our fan-favourite Anishinabe Idol Talent Show\, free kids’ activities\, an Indigenous Vendors Market\, and food trucks\, with fireworks on Saturday night\, July 29. \nCome on down and celebrate with us\, July 29 and 30\, at Naawi-Oodena in the 500 Block of Kenaston Boulevard. \nWe can’t wait to see you there! \n \nVendor/Food Truck Information: Vendor spots are full. Please send in the application without payment if you wish to be placed on the waitlist. There is still space available for Food Trucks. 2023 Vendor/Food Truck Application
URL:https://treaty1.ca/event/anishinabe-days/
LOCATION:Naawi-Oodena\, 505 Kenaston Boulevard\, Winnipeg\, Manitoba\, Canada
CATEGORIES:Gatherings
ATTACH;FMTTYPE=image/jpeg:https://treaty1.ca/wp-content/uploads/2023/06/Anishinabe-Days-Save-the-Date-Featured-Image.jpg
ORGANIZER;CN="Treaty One":MAILTO:events@treaty1.ca
END:VEVENT
END:VCALENDAR