BEGIN:VCALENDAR
VERSION:2.0
PRODID:-//Treaty One - ECPv6.15.14//NONSGML v1.0//EN
CALSCALE:GREGORIAN
METHOD:PUBLISH
X-WR-CALNAME:Treaty One
X-ORIGINAL-URL:https://treaty1.ca
X-WR-CALDESC:Events for Treaty One
REFRESH-INTERVAL;VALUE=DURATION:PT1H
X-Robots-Tag:noindex
X-PUBLISHED-TTL:PT1H
BEGIN:VTIMEZONE
TZID:UTC
BEGIN:STANDARD
TZOFFSETFROM:+0000
TZOFFSETTO:+0000
TZNAME:UTC
DTSTART:20220101T000000
END:STANDARD
END:VTIMEZONE
BEGIN:VEVENT
DTSTART;TZID=UTC:20230822T170000
DTEND;TZID=UTC:20230926T160000
DTSTAMP:20260422T170202
CREATED:20230817T194701Z
LAST-MODIFIED:20230901T234033Z
UID:19191-1692723600-1695744000@treaty1.ca
SUMMARY:Treaty One Land Code - Peguis Community Engagement Sessions
DESCRIPTION:Join us for our Treaty One Land Code Information Sessions! \nWe are excited to invite you to our upcoming information sessions\, where the Treaty One Team will answer any questions you have about our Treaty One lands and about the upcoming vote being held for our community members. In addition\, there will be refreshments and door prizes available for those in attendance! \nNaawi-Oodena is the first jointly held urban reserve of the seven Treaty One First Nations\, located on the former the Kapyong Barracks lands in Winnipeg. As of December 16\, 2022\, Naawi-Oodena has officially been converted to joint reserve land and is slated to become the single largest First Nations-led Urban Economic Development Zone in Canada. \nA successful vote means that the seven First Nations can govern and manage our Treaty One lands—together—as one collective government. This land code DOES NOT affect the Peguis First Nation’s reserve lands. \nSession Locations and Times: \n\nAugust 22 @ 5:00 PM – 7:00 PM: Peguis Community Hall\nSeptember 5 @ 5:00 PM – 7:00 PM Peguis Multiplex Centre\nSeptember 12 @ 5:00 PM – 7:00 PM: Selkirk Friendship Centre Large Hall\, 425 Eveline St\, Selkirk\, MB\nSeptember 26 @ 2:00 PM – 4:00 PM: Peguis Community Hall\n\nThe primary goal of these sessions is to provide you with a platform to voice your questions and concerns regarding the Treaty One lands and the impending Land Code vote. Your active participation is crucial in shaping the development of the Naawi-Oodena site. \nFor any inquiries or further information\, please feel free to contact us at inquiries@treaty1.ca.
URL:https://treaty1.ca/event/treaty-one-land-code-peguis-community-engagement-sessions/
LOCATION:Peguis First Nation
CATEGORIES:Community Engagement
ATTACH;FMTTYPE=image/jpeg:https://treaty1.ca/wp-content/uploads/2023/08/Land-Code-Community-Information-Sessions-POSTER-1200-×-628-px.jpg
ORGANIZER;CN="Treaty One":MAILTO:events@treaty1.ca
END:VEVENT
BEGIN:VEVENT
DTSTART;TZID=UTC:20230911T170000
DTEND;TZID=UTC:20230925T190000
DTSTAMP:20260422T170202
CREATED:20230826T050101Z
LAST-MODIFIED:20230826T050101Z
UID:19248-1694451600-1695668400@treaty1.ca
SUMMARY:Treaty One Land Code - Roseau River Community Engagements
DESCRIPTION:Join us for our Treaty One Land Code Information Sessions! \nOur Treaty One Team is here to answer all your questions about the upcoming Treaty One Land Code vote and our Joint Reserve lands. \nNaawi-Oodena\, located on the former Kapyong Barracks lands in Winnipeg\, is now an official shared Urban Reserve among the seven Treaty One First Nations. This historic transformation happened on December 16\, 2022. We’re on track to create Canada’s largest First Nations-led Urban Economic Development Zone\, bringing growth and progress to our community. \nThe Land Code is what allows the seven Treaty One First Nations to collectively govern and manage our Treaty One Joint Reserve lands. The Treaty One Joint Reserve Land Code DOES NOT affect Roseau River Anishinaabe First Nation’s own reserve lands. \nInfo Session Details: \n\nSeptember 11\, 18\, and 25 from 5:00 PM – 7:00 PM @Niichii Oasis Gaming Centre.\n\nThese sessions are your chance to ask questions about the Treaty One Joint Reserve Land Code and to help shape the future of all Naawi-Oodena developments! \nFor more info\, contact us at inquiries@treaty1.ca.
URL:https://treaty1.ca/event/treaty-one-land-code-roseau-river-community-engagements/
LOCATION:Niichii Oasis Gaming Centre\, FNC 2 Lot CA-7\, MB-201\, Ginew\, Manitoba\, R0A 2R0\, Canada
CATEGORIES:Community Engagement
ATTACH;FMTTYPE=image/jpeg:https://treaty1.ca/wp-content/uploads/2023/08/Land-Code-Community-Information-Sessions-POSTER-1200-×-628-px-2.jpg
ORGANIZER;CN="Treaty One":MAILTO:events@treaty1.ca
END:VEVENT
END:VCALENDAR