BEGIN:VCALENDAR
VERSION:2.0
PRODID:-//Treaty One - ECPv6.15.14//NONSGML v1.0//EN
CALSCALE:GREGORIAN
METHOD:PUBLISH
X-ORIGINAL-URL:https://treaty1.ca
X-WR-CALDESC:Events for Treaty One
REFRESH-INTERVAL;VALUE=DURATION:PT1H
X-Robots-Tag:noindex
X-PUBLISHED-TTL:PT1H
BEGIN:VTIMEZONE
TZID:UTC
BEGIN:STANDARD
TZOFFSETFROM:+0000
TZOFFSETTO:+0000
TZNAME:UTC
DTSTART:20220101T000000
END:STANDARD
END:VTIMEZONE
BEGIN:VEVENT
DTSTART;TZID=UTC:20230412T130000
DTEND;TZID=UTC:20230412T150000
DTSTAMP:20260423T015338
CREATED:20230320T193738Z
LAST-MODIFIED:20230411T220512Z
UID:18565-1681304400-1681311600@treaty1.ca
SUMMARY:Treaty One: Peguis Let’s Talk Land Code
DESCRIPTION:A Community Information Session will be held for Peguis First Nation Band Members to discuss & review the draft land code and land code voting process for the Naawi-Oodena Urban Economic Development Zone on the former Kapyong Barracks lands in Winnipeg\, MB. \nThe Treaty One Land Code will apply ONLY to Naawi-Oodena and future Treaty One Joint Reserve Lands and NOT on-reserve. A successful vote will mean that the seven Treaty One Nations will govern and manage the jointly held lands\, together\, as one collective government. \nOpen to all Peguis First Nation Members \n\n1:00 pm – 3:00 pm\nVictoria Inn Hotel & Convention Centre\n\n***Light refreshments and door prizes*** \nPlease direct any questions to inquiries@treaty1.ca
URL:https://treaty1.ca/event/treaty-one-peguis-lets-talk-land-code-2/
LOCATION:Victoria In Hotel & Convention Centre\, 1808 Wellington Ave\, Winnipeg\, Manitoba\, R3H0G3\, Canada
CATEGORIES:Community Engagement
ATTACH;FMTTYPE=image/jpeg:https://treaty1.ca/wp-content/uploads/2023/03/Peguis-Community-Engagement-Session-ENGLISH-POSTPONED.jpg
ORGANIZER;CN="Treaty One":MAILTO:events@treaty1.ca
END:VEVENT
END:VCALENDAR