BEGIN:VCALENDAR
VERSION:2.0
PRODID:-//Treaty One - ECPv6.15.14//NONSGML v1.0//EN
CALSCALE:GREGORIAN
METHOD:PUBLISH
X-WR-CALNAME:Treaty One
X-ORIGINAL-URL:https://treaty1.ca
X-WR-CALDESC:Events for Treaty One
REFRESH-INTERVAL;VALUE=DURATION:PT1H
X-Robots-Tag:noindex
X-PUBLISHED-TTL:PT1H
BEGIN:VTIMEZONE
TZID:UTC
BEGIN:STANDARD
TZOFFSETFROM:+0000
TZOFFSETTO:+0000
TZNAME:UTC
DTSTART:20220101T000000
END:STANDARD
END:VTIMEZONE
BEGIN:VEVENT
DTSTART;TZID=UTC:20230803T090000
DTEND;TZID=UTC:20230803T143000
DTSTAMP:20260423T183339
CREATED:20230802T021816Z
LAST-MODIFIED:20230802T191206Z
UID:19112-1691053200-1691073000@treaty1.ca
SUMMARY:Treaty No.1 152nd Commemoration Celebration
DESCRIPTION:Join us in Ceremony on August 3 at Lower Fort Garry to honour the 152nd anniversary since the signing of Treaty No. 1. To commemorate this important date\, we will celebrate by beginning the day with a Pipe and Water Ceremony\, to be followed by teachings on the History & Intent of the Treaties and a traditional feast. \n  \nWe invite all to come together and be a part of this special celebration and to learn more about the Treaties. Your presence at the ceremonies on the historic grounds where the Treaty was signed will make this event truly memorable. Let’s unite and honour our shared heritage on this important day!
URL:https://treaty1.ca/event/treaty1-152/
LOCATION:Lower Fort Garry\, 5925 Provincial Trunk Hwy 9\, Saint Andrews\, Manitoba\, R1A 4A8\, Canada
ATTACH;FMTTYPE=image/jpeg:https://treaty1.ca/wp-content/uploads/2023/08/Treaty-No.-1-152nd-Commemoration-Celebration-1200-×-628-px.jpg
ORGANIZER;CN="Treaty One":MAILTO:events@treaty1.ca
END:VEVENT
END:VCALENDAR